BEGIN:VCALENDAR
METHOD:PUBLISH
PRODID:Data::ICal 0.13
VERSION:2.0
BEGIN:VEVENT
DESCRIPTION:
DTSTAMP:20260421T095906Z
DTSTART;TZID=America/New_York:20160408T000000
DTEND;TZID=America/New_York:20160408T000000
LOCATION:
SUMMARY:The Rebirth of Comedy Tour with David Mann aka Mr. Brown &amp; Akintunde LIVE with Special Guest Mark Gregory &amp; Big Redd
UID:953891-1460073600-1460073600
END:VEVENT
END:VCALENDAR
