BEGIN:VCALENDAR
METHOD:PUBLISH
PRODID:Data::ICal 0.13
VERSION:2.0
BEGIN:VEVENT
DESCRIPTION:Come join Prophet Brian Carn every Sunday moring from 9:30am to 10:00am on Praise 100.9 FM.  Learn more at www.kcccharlotte.org
DTSTAMP:20260420T192920Z
DTSTART;TZID=America/New_York:20230101T000000
DTEND;TZID=America/New_York:20231231T000000
LOCATION:
SUMMARY:Kingdom City Church on Praise Charlotte &#8211; Sundays at 9:30am
UID:2061281-1672531200-1703980800
END:VEVENT
END:VCALENDAR
