BEGIN:VCALENDAR
METHOD:PUBLISH
PRODID:Data::ICal 0.13
VERSION:2.0
BEGIN:VEVENT
DESCRIPTION:[caption id=&quot;attachment_948284&quot; align=&quot;aligncenter&quot; width=&quot;480&quot;] Source: Deeper Life / Deeper Life[/caption]
Come and be refreshed at the end of year event @ Deeper Life Bible Church 4637 Brookshire Blvd from Dec 24th-27th, 2015. Refuel and get rejuvenated for the coming year! For more info 704-737-0647 or visit us online at www.facebook.com/Deeper-Life-Bible-Church-Concord-NC
DTSTAMP:20260421T145010Z
DTSTART;TZID=America/New_York:20151224T153900
DTEND;TZID=America/New_York:20151227T153900
LOCATION:4637 Brookshire Blvd\, Charlotte\, NC
SUMMARY:Deeper Life National December Retreat: Readiness For Christ&#8217;s Coming
UID:951644-1450971540-1451230740
END:VEVENT
END:VCALENDAR
