BEGIN:VCALENDAR
METHOD:PUBLISH
PRODID:Data::ICal 0.13
VERSION:2.0
BEGIN:VEVENT
DESCRIPTION:Come join Blessed Assurance Church every Sunday morning from 7:00am to 7:30am.   Learn more at Blessed Assurance
DTSTAMP:20260423T105506Z
DTSTART;TZID=America/New_York:20260101T070000
DTEND;TZID=America/New_York:20261231T073000
LOCATION:
SUMMARY:Blessed Assurance Church on Praise Charlotte
UID:2061285-1767250800-1798702200
END:VEVENT
END:VCALENDAR
