BEGIN:VCALENDAR
METHOD:PUBLISH
PRODID:Data::ICal 0.13
VERSION:2.0
BEGIN:VEVENT
DESCRIPTION:
DTSTAMP:20260422T233037Z
DTSTART;TZID=America/New_York:20171230T160000
DTEND;TZID=America/New_York:20171230T210000
LOCATION:2499 Firetower Road\, Rock Hill\, South Carolina\, 29730
SUMMARY:A Rare Gift Gala ft. Dr. D&#8217;Atra Hicks
UID:1037780-1514649600-1514667600
END:VEVENT
END:VCALENDAR
